BEGIN:VCALENDAR
VERSION:2.0
PRODID:-//Yarra Valley ECOSS - ECPv4.6.1//NONSGML v1.0//EN
CALSCALE:GREGORIAN
METHOD:PUBLISH
X-WR-CALNAME:Yarra Valley ECOSS
X-ORIGINAL-URL:http://www.ecoss.org.au
X-WR-CALDESC:Events for Yarra Valley ECOSS
BEGIN:VEVENT
DTSTART;TZID=Australia/Melbourne:20200329T100000
DTEND;TZID=Australia/Melbourne:20200329T160000
DTSTAMP:20200229T161051
CREATED:20191126T010836Z
LAST-MODIFIED:20191126T010916Z
UID:3904-1585476000-1585497600@www.ecoss.org.au
SUMMARY:Ecotopia Earth Festival 2020
DESCRIPTION:Ecotopia Earth Festival- Community Sustainability Festival\nSave the Date!  Sunday March 29th\, 10am-4pm Yarra Junction Parklands.\nPrepare yourself for a plethora of great entertainment! All Free\, All Accessible and Inclusive!\nThis Ecotopia will host the famous ‘The Valley’s Got Talent’ show\,  Parade\, Upcycling  Art Exhibition by ECOSS Disabilities groups\, 2 Stages\, large Eco Market\, Waste Free Festival\, The Dreaming Space Circus! \nStallholder Applications will be open in December.  \nThanks to generous sponsorship from Yarra Ranges Council for enabling this event to go ahead. \nThanks to Cire Community Services for sponsoring The Dreaming Space Circus show at this festival! \n  \n \n \n \n
URL:http://www.ecoss.org.au/event/ecotopia-earth-festival-2020/
ATTACH;FMTTYPE=image/jpeg:http://www.ecoss.org.au/wp-content/uploads/2019/10/Ecotopia_flyer2020-1-2.jpg
END:VEVENT
END:VCALENDAR